BEGIN:VCALENDAR
VERSION:2.0
PRODID:-//Book Buzz Foundation - ECPv6.15.20//NONSGML v1.0//EN
CALSCALE:GREGORIAN
METHOD:PUBLISH
X-WR-CALNAME:Book Buzz Foundation
X-ORIGINAL-URL:https://bookbuzzfoundation.org
X-WR-CALDESC:Events for Book Buzz Foundation
REFRESH-INTERVAL;VALUE=DURATION:PT1H
X-Robots-Tag:noindex
X-PUBLISHED-TTL:PT1H
BEGIN:VTIMEZONE
TZID:UTC
BEGIN:STANDARD
TZOFFSETFROM:+0000
TZOFFSETTO:+0000
TZNAME:UTC
DTSTART:20240101T000000
END:STANDARD
END:VTIMEZONE
BEGIN:VEVENT
DTSTART;TZID=UTC:20250918T090000
DTEND;TZID=UTC:20250920T170000
DTSTAMP:20260424T051614
CREATED:20260219T093947Z
LAST-MODIFIED:20260302T085859Z
UID:14566-1758186000-1758387600@bookbuzzfoundation.org
SUMMARY:LIFI - Lagos International Festival of Illustration
DESCRIPTION:Lagos International Festival of Illustrations (LIFI) is a vibrant three-day celebration of the art and power of illustration\, hosted by the Book Buzz Foundation. This timely event brings together 9 globally acclaimed illustrators and 45 Nigerian illustrators to explore the transformative power of illustration in storytelling\, representation\, and cultural expression. Through hands-on workshops\, inspiring exhibitions\, panel discussions\, live demonstrations and portfolio clinics where emerging illustrators can receive feedback from professionals\, alongside curated networking events that open doors to collaboration and commercial opportunity. LIFI is designed to ignite creativity\, build skills\, and foster global exchange. Given its focus on artistic illustration for children’s books\, LIFI addresses the urgent need to train a new generation of Nigerian illustrators. LIFI aims to position Lagos as a global hub for excellence in illustrations and empower artists\, elevate Nigeria visual storytelling\, and enrich the future of children’s literature in Nigeria and beyond. \n1st EDITION: 18-20 September 2025 \n2nd EDITION: TBA
URL:https://bookbuzzfoundation.org/event/lifi-lagos-international-festival-of-illustration/
LOCATION:Ouida House\, 34 Ajanaku street Off Salvation Road\, Opebi\, Lagos\, 100281\, Nigeria
CATEGORIES:CFIN
ATTACH;FMTTYPE=image/png:https://bookbuzzfoundation.org/wp-content/uploads/2026/02/LIFI-logo-1.png
ORGANIZER;CN="Book Buzz Foundation":MAILTO:info@bookbuzzfoundation.org
END:VEVENT
BEGIN:VEVENT
DTSTART;TZID=UTC:20260309T090000
DTEND;TZID=UTC:20260313T170000
DTSTAMP:20260424T051614
CREATED:20260226T214443Z
LAST-MODIFIED:20260302T142725Z
UID:15026-1773046800-1773421200@bookbuzzfoundation.org
SUMMARY:Children's Book Illustration and Design
DESCRIPTION:Fee: ₦70\,000Schedule: Monday – Friday | 9:00 AM – 5:00 PMApplication: cfinigeria@bookbuzzfoundation.org \nTutor: Maša P. Žmitek\, award-winning illustrator\, curator\, and producer; lecturer at the Academy of Fine Arts and Design\, University of Ljubljana\, and Head of the Centre for Illustration\, Slovenia.
URL:https://bookbuzzfoundation.org/event/childrens-book-illustration-and-design/
LOCATION:Ouida House\, 34 Ajanaku street Off Salvation Road\, Opebi\, Lagos\, 100281\, Nigeria
CATEGORIES:CFIN
ATTACH;FMTTYPE=image/jpeg:https://bookbuzzfoundation.org/wp-content/uploads/2026/02/children_illust.jpeg
ORGANIZER;CN="Book Buzz Foundation":MAILTO:info@bookbuzzfoundation.org
END:VEVENT
BEGIN:VEVENT
DTSTART;TZID=UTC:20260502T110000
DTEND;TZID=UTC:20260502T140000
DTSTAMP:20260424T051614
CREATED:20260219T093702Z
LAST-MODIFIED:20260418T101105Z
UID:14564-1777719600-1777730400@bookbuzzfoundation.org
SUMMARY:Art Connect
DESCRIPTION:Art Connect is a monthly event which brings together artists\, illustrators on the first Saturday of every month. We hope to facilitate collaborations\, portfolio reviews\, commissions\, and cross-border exchanges. This is where Nigerian illustration meets opportunity\, industry\, and global networks. \nWorkshops \nOur hands-on workshops equip emerging and mid-career illustrators with practical skills in storytelling\, technique\, publishing standards\, and professional development. Led by leading local and international practitioners\, each session strengthens craft\, confidence\, and career readiness. \nMaster Classes \nOur Master Classes offer deep\, intensive learning with accomplished illustrators and industry experts. Designed for serious practitioners\, these sessions explore advanced techniques\, visual narrative\, authorship\, and career strategy—positioning participants for international standards and long-term artistic growth.
URL:https://bookbuzzfoundation.org/event/art-connect/
LOCATION:Ouida House\, 34 Ajanaku street Off Salvation Road\, Opebi\, Lagos\, 100281\, Nigeria
CATEGORIES:CFIN
ATTACH;FMTTYPE=image/jpeg:https://bookbuzzfoundation.org/wp-content/uploads/2026/02/artconnt.jpg
ORGANIZER;CN="Book Buzz Foundation":MAILTO:info@bookbuzzfoundation.org
END:VEVENT
END:VCALENDAR